BEGIN:VCALENDAR
VERSION:2.0
PRODID:-//Dubs On The Run - ECPv6.15.20//NONSGML v1.0//EN
CALSCALE:GREGORIAN
METHOD:PUBLISH
X-ORIGINAL-URL:https://dubsontherun.com
X-WR-CALDESC:Events for Dubs On The Run
REFRESH-INTERVAL;VALUE=DURATION:PT1H
X-Robots-Tag:noindex
X-PUBLISHED-TTL:PT1H
BEGIN:VTIMEZONE
TZID:Europe/London
BEGIN:DAYLIGHT
TZOFFSETFROM:+0000
TZOFFSETTO:+0100
TZNAME:BST
DTSTART:20230326T010000
END:DAYLIGHT
BEGIN:STANDARD
TZOFFSETFROM:+0100
TZOFFSETTO:+0000
TZNAME:GMT
DTSTART:20231029T010000
END:STANDARD
BEGIN:DAYLIGHT
TZOFFSETFROM:+0000
TZOFFSETTO:+0100
TZNAME:BST
DTSTART:20240331T010000
END:DAYLIGHT
BEGIN:STANDARD
TZOFFSETFROM:+0100
TZOFFSETTO:+0000
TZNAME:GMT
DTSTART:20241027T010000
END:STANDARD
BEGIN:DAYLIGHT
TZOFFSETFROM:+0000
TZOFFSETTO:+0100
TZNAME:BST
DTSTART:20250330T010000
END:DAYLIGHT
BEGIN:STANDARD
TZOFFSETFROM:+0100
TZOFFSETTO:+0000
TZNAME:GMT
DTSTART:20251026T010000
END:STANDARD
BEGIN:DAYLIGHT
TZOFFSETFROM:+0000
TZOFFSETTO:+0100
TZNAME:BST
DTSTART:20260329T010000
END:DAYLIGHT
BEGIN:STANDARD
TZOFFSETFROM:+0100
TZOFFSETTO:+0000
TZNAME:GMT
DTSTART:20261025T010000
END:STANDARD
END:VTIMEZONE
BEGIN:VEVENT
DTSTART;TZID=Europe/London:20250822T140000
DTEND;TZID=Europe/London:20250825T140000
DTSTAMP:20260425T021147
CREATED:20250520T073018Z
LAST-MODIFIED:20250520T073457Z
UID:1990-1755871200-1756130400@dubsontherun.com
SUMMARY:Dubs On The Run Summer Campout (charity fund raiser) TT
DESCRIPTION:Join us for a family friendly Bank holiday weekend of back to nature\, off grid camping. We have secured our own area.Please note this is a chilled camping weekend and not a festival. \n\n\n\nMain toilets\, showers\, washing up area will be available at the farm. They also have an on-site butcher\, so perfect for your BBQ. \n\n\n\nFor the kids there is a football pitch and basketball hoops\, plus we are planning a few family games for all the family to enjoy.The site is firepit and dog friendly and best of all; by joining us you will be helping us raise some funds for Angelman UK and Lynch Syndrome UK charities.Don’t forget\, to join us on Facebook: Dubs On The Run | Facebook or Instagram: Instagram to keep up to date with other events.Please note tickets are non-refundable\, to re-sell your ticket\, please get in contact with us and we will issue a transfer code. \n\n\n\n\n\n\n\n\nBuy Tickets
URL:https://dubsontherun.com/dotrevent/dubs-on-the-run-summer-campout-charity-fund-raiser-tt/
LOCATION:Hollinshead Family Farm\, Hollinshead Family Farm\, Bentley\, CV9 2JR\, United Kingdom
END:VEVENT
BEGIN:VEVENT
DTSTART;TZID=Europe/London:20250724T140000
DTEND;TZID=Europe/London:20250727T160000
DTSTAMP:20260425T021147
CREATED:20250204T210933Z
LAST-MODIFIED:20250211T191624Z
UID:1849-1753365600-1753632000@dubsontherun.com
SUMMARY:Dubbed Out Festival 2025 Club Camping
DESCRIPTION:Join us for club camping at Dubbed Out festival 2025
URL:https://dubsontherun.com/dotrevent/dubbed-out-festival-2025-club-camping/
LOCATION:the royal cheshire showground\, The Royal Cheshire Showground\, Knutsford\, WA16 0HJ\, United Kingdom
CATEGORIES:Festival Club Camping
ATTACH;FMTTYPE=image/jpeg:https://dubsontherun.com/storage/2025/07/Flyer.jpg
END:VEVENT
BEGIN:VEVENT
DTSTART;TZID=Europe/London:20250606T100000
DTEND;TZID=Europe/London:20250608T160000
DTSTAMP:20260425T021147
CREATED:20240919T190805Z
LAST-MODIFIED:20250211T191633Z
UID:1771-1749204000-1749398400@dubsontherun.com
SUMMARY:Bristol Volksfest - Club Camping
DESCRIPTION:Join us for Club Camping at Bristol Volksfest\, a great festival in the south west. Book directly with Bristol Volksfest\, select club camping and you will be asked to choose a club before payment.
URL:https://dubsontherun.com/dotrevent/bristol-volksfest-club-camping/
LOCATION:Bristol Volksfest\, Birches Farm\, Bristol\, BS48 3RN\, United Kingdom
CATEGORIES:Festival Club Camping
ATTACH;FMTTYPE=image/png:https://dubsontherun.com/storage/2024/09/Volksfest.png
END:VEVENT
BEGIN:VEVENT
DTSTART;TZID=Europe/London:20250522T140000
DTEND;TZID=Europe/London:20250525T170000
DTSTAMP:20260425T021147
CREATED:20240730T191314Z
LAST-MODIFIED:20240730T204506Z
UID:1701-1747922400-1748192400@dubsontherun.com
SUMMARY:Dubs In The Middle 2025 - Club Camping
DESCRIPTION:We have arranged for Club Camping at Dubs In The Middle 2025. Anyone wishing to join us needs to book their tickets at Dubs in the Middle and choose “Dubs On The Run” club camping tickets
URL:https://dubsontherun.com/dotrevent/dubs-in-the-middle-2025-club-camping/
CATEGORIES:Festival Club Camping
ATTACH;FMTTYPE=image/jpeg:https://dubsontherun.com/storage/2024/07/DITM.jpg
END:VEVENT
BEGIN:VEVENT
DTSTART;TZID=Europe/London:20241101T140000
DTEND;TZID=Europe/London:20241103T140000
DTSTAMP:20260425T021147
CREATED:20240917T142545Z
LAST-MODIFIED:20250212T082757Z
UID:1726-1730469600-1730642400@dubsontherun.com
SUMMARY:Dubs On The Run Halloween Campout
DESCRIPTION:Join us for a chilled Halloween weekend campout (Wild camping NO EHU). Located at Orleton Court Farm campsite\, we will have our own designated area for club members.Toilets and Showers\, Bar (Hopefully with live music on Saturday)\, Camp Fires Allowed\, Dogs Allowed.The event will be Halloween themed\, prize for the best decorated van.Please note: Tickets are non-refundable
URL:https://dubsontherun.com/dotrevent/dubs-on-the-run-halloween-campout/
LOCATION:Orleton Court Farm Campsite\, Orleton Ln\,\, WORCESTERSHIRE\, WR6 6SU\, United Kingdom
CATEGORIES:Campouts
ATTACH;FMTTYPE=image/png:https://dubsontherun.com/storage/2024/09/DOTR-Halloween.png
END:VEVENT
BEGIN:VEVENT
DTSTART;TZID=Europe/London:20240913T140000
DTEND;TZID=Europe/London:20240915T170000
DTSTAMP:20260425T021147
CREATED:20240711T210541Z
LAST-MODIFIED:20250211T191644Z
UID:1689-1726236000-1726419600@dubsontherun.com
SUMMARY:V-DUBS IN THE VALLEY VW SHOW - Club Camping
DESCRIPTION:Decades Of Dubs brings the 10th Vdubs In The Valley\, the best-loved VW Show in Shropshire\, and this year with a Mardi Gras carnival theme so dress to impress. Tickets are limited to ensure the small friendly VW atmosphere we have all come to love is maintained. Once again it offers some of the best entertainment and bands in Shropshire and the West Midlands\, with the focus being on a fun family weekend with great music and entertainment from the 80’s 90’s and 00’s.To join us for club camping: 1) Book your tickets directly on VDubs In The Valley : VW Show Shropshire 13th-15th September 20242) Go to https://www.facebook.com/groups/dubsontherunuk 3) Find the V-DUBS IN THE VALLEY event on the Facebook group4) On the event page there will be a link to the club camping form registration\, fill this in and we will add you to the list.All club camping requests must be submitted by 23rd August 2024
URL:https://dubsontherun.com/dotrevent/v-dubs-in-the-valley-vw-show-club-camping/
CATEGORIES:Festival Club Camping
END:VEVENT
BEGIN:VEVENT
DTSTART;TZID=Europe/London:20240725T020000
DTEND;TZID=Europe/London:20240728T170000
DTSTAMP:20260425T021147
CREATED:20240512T125547Z
LAST-MODIFIED:20240518T123343Z
UID:1456-1721872800-1722186000@dubsontherun.com
SUMMARY:Dubbed Out Club Camping
DESCRIPTION:Join us for club camping at the Dubbed Out festival\, go to the Dubbed Out festival website and book your tickets as normal. Then let us know (details on the Facebook group page).
URL:https://dubsontherun.com/dotrevent/dubbed-out-club-camping/
LOCATION:Dubbed Out Festival\, The Royal Cheshire Showground\, Knutsford\, WA16 0JE\, United Kingdom
CATEGORIES:Festival Club Camping
ATTACH;FMTTYPE=image/jpeg:https://dubsontherun.com/storage/2024/05/Dubbed-Out-Festival-2024-Flyer-724x1024-1.jpg
END:VEVENT
BEGIN:VEVENT
DTSTART;TZID=Europe/London:20240719T140000
DTEND;TZID=Europe/London:20240721T140000
DTSTAMP:20260425T021147
CREATED:20240515T115752Z
LAST-MODIFIED:20240711T183218Z
UID:1487-1721397600-1721570400@dubsontherun.com
SUMMARY:Dubs On The Run Camp Out
DESCRIPTION:Located at Orleton Court Farm campsite\, we will have our own designated area for club members \n\n\n\nWeekend campout (Wild camping NO EHU)Live Music Friday & Saturday nightToilets and ShowersBarWood Fired Pizza & Street FoodFishing & Wild SwimmingWater sports & activities so pack your SUP and CanoesCamp Fires Allowed (campsite requests all wood is purchased from them)Dogs Allowed (XL Bully friendly)£55 per van (including all occupants)
URL:https://dubsontherun.com/dotrevent/dubs-on-the-run-campout/
LOCATION:Orleton Court Farm Campsite\, Orleton Ln\,\, WORCESTERSHIRE\, WR6 6SU\, United Kingdom
CATEGORIES:Campouts
ATTACH;FMTTYPE=image/webp:https://dubsontherun.com/storage/2024/05/81dfce_7b410729b36e45b4ae00e3eb4fe0c8d7mv2.webp
END:VEVENT
BEGIN:VEVENT
DTSTART;TZID=Europe/London:20240705T080000
DTEND;TZID=Europe/London:20240707T170000
DTSTAMP:20260425T021147
CREATED:20240512T122747Z
LAST-MODIFIED:20240518T134305Z
UID:1445-1720166400-1720371600@dubsontherun.com
SUMMARY:CamperJam Club Camping
DESCRIPTION:Taking place on the 5th – 7th July 2024\, Camper Jam is one of the most recognised and hotly anticipated VW events in the UK.A whole weekend dedicated to the VW community\, celebrating everything from T1s to T6s. \n\n\n\nPlus\, offering the same family-friendly vibe they’ve become so loved for. There’s something for all ages.
URL:https://dubsontherun.com/dotrevent/camperjam-club-camping/
LOCATION:Camper Jam\, weston Park\, Shifnal\, Shropshire\, TF11 8LE\, United Kingdom
CATEGORIES:Festival Club Camping
ATTACH;FMTTYPE=image/png:https://dubsontherun.com/storage/2024/05/CJ15Logo.png
END:VEVENT
END:VCALENDAR