BEGIN:VCALENDAR
VERSION:2.0
PRODID:-//Dubs On The Run - ECPv6.15.20//NONSGML v1.0//EN
CALSCALE:GREGORIAN
METHOD:PUBLISH
X-ORIGINAL-URL:https://dubsontherun.com
X-WR-CALDESC:Events for Dubs On The Run
REFRESH-INTERVAL;VALUE=DURATION:PT1H
X-Robots-Tag:noindex
X-PUBLISHED-TTL:PT1H
BEGIN:VTIMEZONE
TZID:Europe/London
BEGIN:DAYLIGHT
TZOFFSETFROM:+0000
TZOFFSETTO:+0100
TZNAME:BST
DTSTART:20250330T010000
END:DAYLIGHT
BEGIN:STANDARD
TZOFFSETFROM:+0100
TZOFFSETTO:+0000
TZNAME:GMT
DTSTART:20251026T010000
END:STANDARD
BEGIN:DAYLIGHT
TZOFFSETFROM:+0000
TZOFFSETTO:+0100
TZNAME:BST
DTSTART:20260329T010000
END:DAYLIGHT
BEGIN:STANDARD
TZOFFSETFROM:+0100
TZOFFSETTO:+0000
TZNAME:GMT
DTSTART:20261025T010000
END:STANDARD
BEGIN:DAYLIGHT
TZOFFSETFROM:+0000
TZOFFSETTO:+0100
TZNAME:BST
DTSTART:20270328T010000
END:DAYLIGHT
BEGIN:STANDARD
TZOFFSETFROM:+0100
TZOFFSETTO:+0000
TZNAME:GMT
DTSTART:20271031T010000
END:STANDARD
END:VTIMEZONE
BEGIN:VEVENT
DTSTART;TZID=Europe/London:20260521T103000
DTEND;TZID=Europe/London:20260525T150000
DTSTAMP:20260425T043216
CREATED:20250928T150139Z
LAST-MODIFIED:20250928T150530Z
UID:2012-1779359400-1779721200@dubsontherun.com
SUMMARY:Dubs In The Middle 2026
DESCRIPTION:We have arranged for Club Camping at Dubs In The Middle 2026. Anyone wishing to join us needs to book their tickets at Dubs in the Middle and choose “Dubs On The Run” club camping tickets
URL:https://dubsontherun.com/dotrevent/dubs-in-the-middle-2026/
LOCATION:Brookfield Farm\, Pershore Road\, Nr Evesham\, WR11 2RB\, Brookfield Farm\, Pershore Road\, Nr Evesham\, WR11 2RB\, United Kingdom
ATTACH;FMTTYPE=image/jpeg:https://dubsontherun.com/storage/2025/09/LatestFlyer.jpg
END:VEVENT
BEGIN:VEVENT
DTSTART;TZID=Europe/London:20260723T150000
DTEND;TZID=Europe/London:20260726T160000
DTSTAMP:20260425T043216
CREATED:20260220T132820Z
LAST-MODIFIED:20260221T113843Z
UID:2031-1784818800-1785081600@dubsontherun.com
SUMMARY:Dubbed Out Festival 2026 Club Camping
DESCRIPTION:Join us for club camping at Dubbed Out festival. To join us for club camping\, purchase your tickets directly at DubbedOut FestivalThere’s a Club camping form in the events section of Dubs On The Run | Facebook to fill in to join us
URL:https://dubsontherun.com/dotrevent/dubbed-out-festival-2026-club-camping/
LOCATION:the royal cheshire showground\, The Royal Cheshire Showground\, Knutsford\, WA16 0HJ\, United Kingdom
ATTACH;FMTTYPE=image/jpeg:https://dubsontherun.com/storage/2026/02/Dubbed-Out-Festival-2026-724x1024-2.jpg
END:VEVENT
BEGIN:VEVENT
DTSTART;TZID=Europe/London:20260827T150000
DTEND;TZID=Europe/London:20260830T120000
DTSTAMP:20260425T043216
CREATED:20251228T210751Z
LAST-MODIFIED:20260221T113708Z
UID:2024-1787842800-1788091200@dubsontherun.com
SUMMARY:Dubs On The Run Summer Campout (charity fund raiser) 2026
DESCRIPTION:Join us for a family friendly Bank holiday weekend of back to nature\, off grid camping. We have secured our own area.Please note this is a chilled camping weekend and not a festival. \n\n\n\nWe are planning a few family games for all the family to enjoy.The site is firepit and dog friendly and best of all; by joining us you will be helping us raise some funds for Angelman UK and Lynch Syndrome UK charities.Don’t forget\, to join us on Facebook: Dubs On The Run |  or Instagram: Dubs On The Run to keep up to date with other events.Please note tickets are non-refundable\, to re-sell your ticket\, please get in contact with us and we will issue a transfer code. \n\n\n\n \n\n\n\n\n\n\nBuy Tickets
URL:https://dubsontherun.com/dotrevent/dubs-on-the-run-summer-campout-charity-fund-raiser-2026/
LOCATION:Hollinshead Family Farm\, Hollinshead Family Farm\, Bentley\, CV9 2JR\, United Kingdom
ATTACH;FMTTYPE=image/png:https://dubsontherun.com/storage/2025/12/Campout-2026.png
END:VEVENT
BEGIN:VEVENT
DTSTART;TZID=Europe/London:20260918T150000
DTEND;TZID=Europe/London:20260920T160000
DTSTAMP:20260425T043216
CREATED:20260220T134436Z
LAST-MODIFIED:20260221T113957Z
UID:2036-1789743600-1789920000@dubsontherun.com
SUMMARY:Vdubs In The Valley club camping 2026
DESCRIPTION:To join Dubs On The Run Club camping at Vdubs In The Valley\, purchase your tickets directly at https://www.vdubsinthevalley.co.uk/Then Fill in the club camping form in the events section at Dubs On The Run | Facebook
URL:https://dubsontherun.com/dotrevent/vdubs-in-the-valley-club-camping-2026/
CATEGORIES:Festival Club Camping
ATTACH;FMTTYPE=image/jpeg:https://dubsontherun.com/storage/2026/02/637856872_3812491532389696_7760989346136483315_n.jpg
END:VEVENT
END:VCALENDAR